BEGIN:VCALENDAR
VERSION:2.0
PRODID:-//ChamberMaster//Event Calendar 2.0//EN
METHOD:PUBLISH
X-PUBLISHED-TTL:P3D
REFRESH-INTERVAL:P3D
CALSCALE:GREGORIAN
BEGIN:VEVENT
DTSTART:20260430T143000Z
DTEND:20260430T150000Z
X-MICROSOFT-CDO-ALLDAYEVENT:FALSE
SUMMARY:Ribbon Cutting: Birddog Built LLC
DESCRIPTION:Please join us on Thursday\, April 30 at 10:30 AM as we celebrate a ribbon cutting ceremony for Birddog Built LLC\, our newest Chamber Member. Recently relocated to the former LM Installation space\, Birddog Built is excited to continue serving Bainbridge and the surrounding region.\nWe are excited to welcome Mason Birdsong and the Birddog Built team to the Chamber and hope you will join us to celebrate!\nAbout Birddog Built LLC:\n\nBirddog Built LLC is a family-owned and operated company specializing in industrial welding\, millwright work\, and mechanical services. Based in Bainbridge\, Georgia\, we offer both in-house repairs at our local shop and onsite repair and installation through our fully equipped service trucks operated by trusted crew members.\n\nAt Birddog Built\, we believe in treating every client with respect and still live by the saying\, "A man's word is his worth." We are committed to being there when our customers need us day or night\, weekends or holidays to help ensure their needs are met within the time frame they require.\n\nWhether you need a general contractor to manage a new project from start to finish or emergency repairs to get your mill or production plant back up and running quickly\, Birddog Built has the experience\, equipment\, and capability to get the job done right.\n\nWe are a full-service provider experienced in:\n\n\n	Industrial and mechanical repairs\n	Grain and peanut elevator repair\n	Conveyor repair\n	Auger and screw repair\n	Pipe work\n	Red iron fabrication and installation\n	Handrails and custom gates\n	Heavy equipment repair\n	Demolition services\n\n\nOur 6\,400-square-foot shop is equipped with a CNC plasma table\, milling equipment\, and much more to exceed the demands of your project.\n\nCall Birddog Built LLC today for a free estimate or bid on your upcoming project at 229-254-9710.
X-ALT-DESC;FMTTYPE=text/html:<span style="font-size:14px\;"><span style="font-family:arial\;">Please join us on <strong>Thursday\, April 30 at 10:30 AM</strong> as we celebrate a ribbon cutting ceremony for <strong>Birddog Built LLC</strong>\, our newest Chamber Member. Recently relocated to the former LM Installation space\, Birddog Built is excited to continue serving Bainbridge and the surrounding region.</span></span>\n<p><span style="font-size:14px\;"><span style="font-family:arial\;">We are excited&nbsp\;to welcome Mason Birdsong and the Birddog Built team to the Chamber and hope you will join us to celebrate!</span></span></p>\n<span style="font-size:14px\;"><span style="font-family:arial\;"><u><strong>About Birddog Built LLC:</strong></u></span></span>\n\n<p style="color: rgb(34\, 34\, 34)\; margin: 0px 0px 12px\; font-size: 20px\; line-height: normal\; font-family: New\; font-size-adjust: none\;"><span style="font-size:14px\;"><span style="font-family:arial\;">Birddog Built LLC is a family-owned and operated company specializing in industrial welding\, millwright work\, and mechanical services. Based in Bainbridge\, Georgia\, we offer both in-house repairs at our local shop and onsite repair and installation through our fully equipped service trucks operated by trusted crew members.</span></span></p>\n\n<p style="color: rgb(34\, 34\, 34)\; margin: 0px 0px 12px\; font-size: 20px\; line-height: normal\; font-family: New\; font-size-adjust: none\;"><span style="font-size:14px\;"><span style="font-family:arial\;">At Birddog Built\, we believe in treating every client with respect and still live by the saying\, &ldquo\;A man&rsquo\;s word is his worth.&rdquo\; We are committed to being there when our customers need us&mdash\;day or night\, weekends or holidays&mdash\;to help ensure their needs are met within the time frame they require.</span></span></p>\n\n<p style="color: rgb(34\, 34\, 34)\; margin: 0px 0px 12px\; font-size: 20px\; line-height: normal\; font-family: New\; font-size-adjust: none\;"><span style="font-size:14px\;"><span style="font-family:arial\;">Whether you need a general contractor to manage a new project from start to finish or emergency repairs to get your mill or production plant back up and running quickly\, Birddog Built has the experience\, equipment\, and capability to get the job done right.</span></span></p>\n\n<p style="color: rgb(34\, 34\, 34)\; margin: 0px 0px 12px\; font-size: 20px\; line-height: normal\; font-family: New\; font-size-adjust: none\;"><span style="font-size:14px\;"><span style="font-family:arial\;">We are a full-service provider experienced in:</span></span></p>\n\n<ul style="color: rgb(34\, 34\, 34)\; font-size: small\; font-family: YahooProductSans-VF\, HelveticaNeue-Regular\, Helvetica\;">\n	<li style="margin: 0px 0px 12px\; font-size: 20px\; line-height: normal\; font-family: New\; font-size-adjust: none\;"><span style="font-size:14px\;"><span style="font-family:arial\;">Industrial and mechanical repairs</span></span></li>\n	<li style="margin: 0px 0px 12px\; font-size: 20px\; line-height: normal\; font-family: New\; font-size-adjust: none\;"><span style="font-size:14px\;"><span style="font-family:arial\;">Grain and peanut elevator repair</span></span></li>\n	<li style="margin: 0px 0px 12px\; font-size: 20px\; line-height: normal\; font-family: New\; font-size-adjust: none\;"><span style="font-size:14px\;"><span style="font-family:arial\;">Conveyor repair</span></span></li>\n	<li style="margin: 0px 0px 12px\; font-size: 20px\; line-height: normal\; font-family: New\; font-size-adjust: none\;"><span style="font-size:14px\;"><span style="font-family:arial\;">Auger and screw repair</span></span></li>\n	<li style="margin: 0px 0px 12px\; font-size: 20px\; line-height: normal\; font-family: New\; font-size-adjust: none\;"><span style="font-size:14px\;"><span style="font-family:arial\;">Pipe work</span></span></li>\n	<li style="margin: 0px 0px 12px\; font-size: 20px\; line-height: normal\; font-family: New\; font-size-adjust: none\;"><span style="font-size:14px\;"><span style="font-family:arial\;">Red iron fabrication and installation</span></span></li>\n	<li style="margin: 0px 0px 12px\; font-size: 20px\; line-height: normal\; font-family: New\; font-size-adjust: none\;"><span style="font-size:14px\;"><span style="font-family:arial\;">Handrails and custom gates</span></span></li>\n	<li style="margin: 0px 0px 12px\; font-size: 20px\; line-height: normal\; font-family: New\; font-size-adjust: none\;"><span style="font-size:14px\;"><span style="font-family:arial\;">Heavy equipment repair</span></span></li>\n	<li style="margin: 0px 0px 12px\; font-size: 20px\; line-height: normal\; font-family: New\; font-size-adjust: none\;"><span style="font-size:14px\;"><span style="font-family:arial\;">Demolition services</span></span></li>\n</ul>\n\n<p style="color: rgb(34\, 34\, 34)\; margin: 0px 0px 12px\; font-size: 20px\; line-height: normal\; font-family: New\; font-size-adjust: none\;"><span style="font-size:14px\;"><span style="font-family:arial\;">Our 6\,400-square-foot shop is equipped with a CNC plasma table\, milling equipment\, and much more to exceed the demands of your project.</span></span></p>\n\n<p style="color: rgb(34\, 34\, 34)\; margin: 0px 0px 12px\; font-size: 20px\; line-height: normal\; font-family: New\; font-size-adjust: none\;"><span style="font-size:14px\;"><span style="font-family:arial\;">Call Birddog Built LLC today for a free estimate or bid on your upcoming project at&nbsp\;<span dir="ltr" style="text-decoration-line: underline\;">229-254-9710.</span></span></span></p>\n\n<div>&nbsp\;</div>\n<br />\n<br />\n&nbsp\;
LOCATION:
UID:e.1540.5476
SEQUENCE:3
DTSTAMP:20260423T182805Z
URL:https://business.bainbridgegachamber.com/events/details/ribbon-cutting-birddog-built-llc-5476
END:VEVENT

END:VCALENDAR
