BEGIN:VCALENDAR
VERSION:2.0
PRODID:-//ChamberMaster//Event Calendar 2.0//EN
METHOD:PUBLISH
X-PUBLISHED-TTL:P3D
REFRESH-INTERVAL:P3D
CALSCALE:GREGORIAN
BEGIN:VEVENT
DTSTART:20260423T200000Z
DTEND:20260423T210000Z
X-MICROSOFT-CDO-ALLDAYEVENT:FALSE
SUMMARY:Kids Club Legos
DESCRIPTION:
X-ALT-DESC;FMTTYPE=text/html:
LOCATION:Gilbert H. Gragg Library
UID:e.1540.5464
SEQUENCE:3
DTSTAMP:20260422T001443Z
URL:https://business.bainbridgegachamber.com/events/details/kids-club-legos-04-23-2026-5464
END:VEVENT

END:VCALENDAR
