BEGIN:VCALENDAR
VERSION:2.0
PRODID:-//ChamberMaster//Event Calendar 2.0//EN
METHOD:PUBLISH
X-PUBLISHED-TTL:P3D
REFRESH-INTERVAL:P3D
CALSCALE:GREGORIAN
BEGIN:VEVENT
DTSTART:20260507T154500Z
DTEND:20260507T170000Z
X-MICROSOFT-CDO-ALLDAYEVENT:FALSE
SUMMARY:Chamber Connect Sponsored by Memorial Hospital & Manor
DESCRIPTION:Please join us for Chamber Connect on Thursday\, May 7th at 11:45 AM at the Kirbo Center of SRTC\, proudly sponsored by Memorial Hospital & Manor. We look forward to bringing everyone together for networking and a delicious meal by Boyd's BBQ. Registration will open on Thursday\, April 23rd. Additional details about the hospital's presentation will be shared soon.
X-ALT-DESC;FMTTYPE=text/html:Please join us for Chamber Connect on Thursday\, May 7th at 11:45 AM at the Kirbo Center of SRTC\, proudly sponsored by Memorial Hospital &amp\; Manor. We look forward to bringing everyone together for networking and a delicious meal by Boyd&rsquo\;s BBQ. Registration will open on Thursday\, April 23rd. Additional details about the hospital&rsquo\;s presentation will be shared soon.
LOCATION:Kirbo Center of SRTC Bainbridge\, Georgia
UID:e.1540.5475
SEQUENCE:3
DTSTAMP:20260421T182415Z
URL:https://business.bainbridgegachamber.com/events/details/chamber-connect-sponsored-by-memorial-hospital-manor-5475
END:VEVENT

END:VCALENDAR
