BEGIN:VCALENDAR
VERSION:2.0
PRODID:-//ChamberMaster//Event Calendar 2.0//EN
METHOD:PUBLISH
X-PUBLISHED-TTL:P3D
REFRESH-INTERVAL:P3D
CALSCALE:GREGORIAN
BEGIN:VEVENT
DTSTART:20260423T140000Z
DTEND:20260423T150000Z
X-MICROSOFT-CDO-ALLDAYEVENT:FALSE
SUMMARY:Bingo
DESCRIPTION:Play Bingo to win prizes and Library Bucks to spend in the book sale or pay towards fines.
X-ALT-DESC;FMTTYPE=text/html:Play Bingo to win prizes and Library Bucks to spend in the book sale or pay towards fines.
LOCATION:Gilbert H. Gragg Library
UID:e.1540.5463
SEQUENCE:3
DTSTAMP:20260421T230100Z
URL:https://business.bainbridgegachamber.com/events/details/bingo-04-23-2026-5463
END:VEVENT

END:VCALENDAR
